BEGIN:VCALENDAR
VERSION:2.0
PRODID:-//Spazio Marte - Galleria d&#039;Arte a Pozzuoli - ECPv6.0.13.1//NONSGML v1.0//EN
CALSCALE:GREGORIAN
METHOD:PUBLISH
X-WR-CALNAME:Spazio Marte - Galleria d&#039;Arte a Pozzuoli
X-ORIGINAL-URL:https://spaziomarte.it
X-WR-CALDESC:Eventi per Spazio Marte - Galleria d&#039;Arte a Pozzuoli
REFRESH-INTERVAL;VALUE=DURATION:PT1H
X-Robots-Tag:noindex
X-PUBLISHED-TTL:PT1H
BEGIN:VTIMEZONE
TZID:Europe/Rome
BEGIN:DAYLIGHT
TZOFFSETFROM:+0100
TZOFFSETTO:+0200
TZNAME:CEST
DTSTART:20230326T010000
END:DAYLIGHT
BEGIN:STANDARD
TZOFFSETFROM:+0200
TZOFFSETTO:+0100
TZNAME:CET
DTSTART:20231029T010000
END:STANDARD
END:VTIMEZONE
BEGIN:VEVENT
DTSTART;TZID=Europe/Rome:20230519T210000
DTEND;TZID=Europe/Rome:20230519T210000
DTSTAMP:20260425T013420
CREATED:20230916T202129Z
LAST-MODIFIED:20230916T202317Z
UID:10000016-1684530000-1684530000@spaziomarte.it
SUMMARY:Il gioco delle 100 canzoni  - Brunello Canessa | Michelangelo Iossa
DESCRIPTION:19 maggio 2023 ore 21:00 \nL’evento fa parte della rassegna “Musica in Galleria”\, un appuntamento fisso\, rigorosamente “unplugged” con Canessa ed i suoi ospiti \nSpazio M’Arte\nVia Marconi\, 4\, Pozzuoli\, Italy\nIngresso libero\nVino\, birra e finger food.\nPer informazioni contattare: 353 327 1851
URL:https://spaziomarte.it/event/il-gioco-delle-100-canzoni-brunello-canessa-michelangelo-iossa/
LOCATION:Spazio Marte\, Via Marconi\, 4\, Pozzuoli\, NA\, 80078\, Italia
CATEGORIES:Evento musicale,Mostre,Presentazioni
ATTACH;FMTTYPE=image/jpeg:https://spaziomarte.it/wp-content/uploads/2023/05/gioco100.jpg
END:VEVENT
BEGIN:VEVENT
DTSTART;TZID=Europe/Rome:20230512T210000
DTEND;TZID=Europe/Rome:20230512T210000
DTSTAMP:20260425T013420
CREATED:20230523T080720Z
LAST-MODIFIED:20230523T080720Z
UID:10000012-1683925200-1683925200@spaziomarte.it
SUMMARY:FILUMENA\, IN ARTE TITINA (REPLICA)  - Brunello Canessa | Ingrid Sansone
DESCRIPTION:11 ed in replica il 12 maggio 2023 ore 21:00\n\nUn modo diverso per raccontare la grande attrice napoletana fra musica e parole. L’evento fa parte della rassegna “Musica in Galleria”\, un appuntamento fisso\, rigorosamente “unplugged” con Canessa ed i suoi ospiti. \n\nPiù Filumena o più Titina? Spesso confondiamo i grandi attori con il loro personaggi più famosi ma Titina è molto di più di Filumena: è infatti un’artista dai mille talenti nascosti tutti da scoprire. \nFilumena\, In Arte Titina\nLa Musica nelle Parole\nVersi di Titina De Filippo\nMusiche di Brunello Canessa\nCon la partecipazione di\nIngrid Sansone\, voce recitante \n“Titina De Filippo è una delle figure più importanti del teatro napoletano\, ago della bilancia al centro delle ingombranti personalità dei fratelli Edoardo e Peppino. Dopo il ritiro dalle scene a causa del suo cuore malato\, concentrò la sua creatività su altre arti\, come la pittura e la poesia. Proprio da qui\, dai suoi versi malinconici\, nasce questo concerto\, ideale continuazione della tradizione della canzone napoletana nata spesso dall’incontro di un poeta e di un musicista. Brunello Canessa\, nipote della grande attrice scomparsa\, musicò negli anni ’90 una ventina di sue poesie\, all’epoca raccolte in una compilation prodotta da Gino Aveta per le edizioni Curci nella quale ad interpretare i brani furono chiamati artisti del calibro di Lina Sastri\, Ron\, Eugenio Bennato\, Pietra Montecorvino\, Nino Buonocore\, Lino Vairetti\, Leopoldo Mastelloni\, Riccardo Pazzaglia e\, più recentemente\, Fiorella Mannoia. In questo spettacolo Canessa fa di nuovo sua questa opera interpretando i brani dal vivo con alcune ”incursioni” recitate per una sorta di concerto/racconto dedicato al mito di Titina” \nSpazio M’Arte\nVia Marconi\, 4\, Pozzuoli\, Italy\nIngresso libero\nVino\, birra e finger food.\nPer informazioni contattare: 353 327 1851
URL:https://spaziomarte.it/event/filumena-in-arte-titina-replica-brunello-canessa-ingrid-sansone/
LOCATION:Spazio Marte\, Via Marconi\, 4\, Pozzuoli\, NA\, 80078\, Italia
CATEGORIES:Evento musicale,Mostre,Presentazioni
ATTACH;FMTTYPE=image/jpeg:https://spaziomarte.it/wp-content/uploads/2023/05/filumena.jpg
END:VEVENT
BEGIN:VEVENT
DTSTART;TZID=Europe/Rome:20230511T210000
DTEND;TZID=Europe/Rome:20230511T210000
DTSTAMP:20260425T013420
CREATED:20230523T080608Z
LAST-MODIFIED:20230523T080608Z
UID:10000011-1683838800-1683838800@spaziomarte.it
SUMMARY:FILUMENA\, IN ARTE TITINA  - Brunello Canessa | Ingrid Sansone
DESCRIPTION:11 ed in replica il 12 maggio 2023 ore 21:00\n\nUn modo diverso per raccontare la grande attrice napoletana fra musica e parole. L’evento fa parte della rassegna “Musica in Galleria”\, un appuntamento fisso\, rigorosamente “unplugged” con Canessa ed i suoi ospiti. \n\nPiù Filumena o più Titina? Spesso confondiamo i grandi attori con il loro personaggi più famosi ma Titina è molto di più di Filumena: è infatti un’artista dai mille talenti nascosti tutti da scoprire. \nFilumena\, In Arte Titina\nLa Musica nelle Parole\nVersi di Titina De Filippo\nMusiche di Brunello Canessa\nCon la partecipazione di\nIngrid Sansone\, voce recitante \n“Titina De Filippo è una delle figure più importanti del teatro napoletano\, ago della bilancia al centro delle ingombranti personalità dei fratelli Edoardo e Peppino. Dopo il ritiro dalle scene a causa del suo cuore malato\, concentrò la sua creatività su altre arti\, come la pittura e la poesia. Proprio da qui\, dai suoi versi malinconici\, nasce questo concerto\, ideale continuazione della tradizione della canzone napoletana nata spesso dall’incontro di un poeta e di un musicista. Brunello Canessa\, nipote della grande attrice scomparsa\, musicò negli anni ’90 una ventina di sue poesie\, all’epoca raccolte in una compilation prodotta da Gino Aveta per le edizioni Curci nella quale ad interpretare i brani furono chiamati artisti del calibro di Lina Sastri\, Ron\, Eugenio Bennato\, Pietra Montecorvino\, Nino Buonocore\, Lino Vairetti\, Leopoldo Mastelloni\, Riccardo Pazzaglia e\, più recentemente\, Fiorella Mannoia. In questo spettacolo Canessa fa di nuovo sua questa opera interpretando i brani dal vivo con alcune ”incursioni” recitate per una sorta di concerto/racconto dedicato al mito di Titina” \nSpazio M’Arte\nVia Marconi\, 4\, Pozzuoli\, Italy\nIngresso libero\nVino\, birra e finger food.\nPer informazioni contattare: 353 327 1851
URL:https://spaziomarte.it/event/filumena-in-arte-titina-brunello-canessa-ingrid-sansone/
LOCATION:Spazio Marte\, Via Marconi\, 4\, Pozzuoli\, NA\, 80078\, Italia
CATEGORIES:Evento musicale,Mostre,Presentazioni
ATTACH;FMTTYPE=image/jpeg:https://spaziomarte.it/wp-content/uploads/2023/05/filumena.jpg
END:VEVENT
BEGIN:VEVENT
DTSTART;TZID=Europe/Rome:20230428T210000
DTEND;TZID=Europe/Rome:20230428T210000
DTSTAMP:20260425T013420
CREATED:20230523T080136Z
LAST-MODIFIED:20230523T080136Z
UID:10000009-1682715600-1682715600@spaziomarte.it
SUMMARY:ITALIANS!   - Brunello Canessa | Luigi Lepre
DESCRIPTION:28 aprile 2023 ore 21:00\n\nLa musica Italiana d’autore. \n\nTerzo appuntamento della nostra rassegna “Musica in Galleria”\, una serie di incontri “unplegged” nei nostri spazi d’arte durante i quali Brunello Canessa\, con l’aiuto dei suoi ospiti\, affronta “a tu per tu” col pubblico vari temi musicali.\nIl prossimo 28 aprile si parlerà (e si canterà) della musica italiana d’autore attraverso quei brani che hanno fatto la storia della musica italiana ed in particolare quelli legati alla nostra terra. Da Bennato a Daniele\, da De Gregori a Dalla passando per Ron\, Battisti\, Celentano\, Caputo\, Baglioni e chissà quanti altri ancora! Per scoprirlo restate con noi! \n\nSpazio M’Arte\nVia Marconi\, 4\, Pozzuoli\, Italy\nIngresso libero\nVino\, birra e finger food.\nPer informazioni contattare: 353 327 1851
URL:https://spaziomarte.it/event/italians-brunello-canessa-luigi-lepre/
LOCATION:Spazio Marte\, Via Marconi\, 4\, Pozzuoli\, NA\, 80078\, Italia
CATEGORIES:Evento musicale,Mostre,Presentazioni
ATTACH;FMTTYPE=image/jpeg:https://spaziomarte.it/wp-content/uploads/2023/05/italians.jpg
END:VEVENT
BEGIN:VEVENT
DTSTART;TZID=Europe/Rome:20230331T000000
DTEND;TZID=Europe/Rome:20230331T235959
DTSTAMP:20260425T013420
CREATED:20230523T075758Z
LAST-MODIFIED:20230523T075857Z
UID:10000008-1680220800-1680307199@spaziomarte.it
SUMMARY:REGINELLA ED ALTRE LUNE - Brunello Canessa | chitarra e voce
DESCRIPTION:31 marzo 2023 ore 21:00\n\nUn viaggio nella canzone napoletana d’autore dalla settecentesca ballata del Guarracino ai giorni nostri con De Filippo e Daniele passando per i grandi classici come Luna Rossa\, Era De Maggio e Malafemmina senza trascurare le ironiche e divertenti “macchiette” come “E Allora?” e “La Donna Al Volante”. Un “Music Talk” pieno di divertenti aneddoti inediti ed il meglio della tradizione della canzone d’autore napoletana.\nIl Recital fa parte della rassegna “Musica in Galleria”\, un appuntamento fisso\, rigorosamente “unplugged” con Canessa ed i suoi ospiti\n\nSpazio M’Arte\nVia Marconi\, 4\, Pozzuoli\, Italy\nIngresso libero\nVino\, birra e finger food.\nPer informazioni contattare: 353 327 1851
URL:https://spaziomarte.it/event/reginella-ed-altre-lune-brunello-canessa-chitarra-e-voce/
LOCATION:Spazio Marte\, Via Marconi\, 4\, Pozzuoli\, NA\, 80078\, Italia
CATEGORIES:Evento musicale,Mostre,Presentazioni
ATTACH;FMTTYPE=image/jpeg:https://spaziomarte.it/wp-content/uploads/2023/05/reginella.jpg
END:VEVENT
END:VCALENDAR